BEGIN:VCALENDAR
VERSION:2.0
PRODID:-//pretalx//go.oercamp.de//werkstatt-wutoeschingen-2026//3LLFFF
BEGIN:VTIMEZONE
TZID:CET
BEGIN:STANDARD
DTSTART:20001029T040000
RRULE:FREQ=YEARLY;BYDAY=-1SU;BYMONTH=10
TZNAME:CET
TZOFFSETFROM:+0200
TZOFFSETTO:+0100
END:STANDARD
BEGIN:DAYLIGHT
DTSTART:20000326T030000
RRULE:FREQ=YEARLY;BYDAY=-1SU;BYMONTH=3
TZNAME:CEST
TZOFFSETFROM:+0100
TZOFFSETTO:+0200
END:DAYLIGHT
END:VTIMEZONE
BEGIN:VEVENT
UID:pretalx-werkstatt-wutoeschingen-2026-XUM77S@go.oercamp.de
DTSTART;TZID=CET:20260612T160000
DTEND;TZID=CET:20260612T163000
DESCRIPTION:
DTSTAMP:20260421T132649Z
LOCATION:Nele
SUMMARY:Community-Meetup zum Einstieg - Nele Hirsch
URL:https://go.oercamp.de/werkstatt-wutoeschingen-2026/talk/XUM77S/
END:VEVENT
BEGIN:VEVENT
UID:pretalx-werkstatt-wutoeschingen-2026-UVZH3W@go.oercamp.de
DTSTART;TZID=CET:20260612T173000
DTEND;TZID=CET:20260612T174500
DESCRIPTION:
DTSTAMP:20260421T132649Z
LOCATION:Nele
SUMMARY:Spannungsfelder im Bildungsleitbild und in der Lerngestaltung refle
 ktieren und für das eigene Materialvorhaben nutzbar machen - Nele Hirsch
URL:https://go.oercamp.de/werkstatt-wutoeschingen-2026/talk/UVZH3W/
END:VEVENT
BEGIN:VEVENT
UID:pretalx-werkstatt-wutoeschingen-2026-TGLMGX-0@go.oercamp.de
DTSTART;TZID=CET:20260612T174500
DTEND;TZID=CET:20260612T180000
DESCRIPTION:
DTSTAMP:20260421T132649Z
LOCATION:Nele
SUMMARY:Sprechstunde zu Lernkulturveränderung - Nele Hirsch
URL:https://go.oercamp.de/werkstatt-wutoeschingen-2026/talk/TGLMGX/
END:VEVENT
BEGIN:VEVENT
UID:pretalx-werkstatt-wutoeschingen-2026-YQ7HMP-0@go.oercamp.de
DTSTART;TZID=CET:20260613T080000
DTEND;TZID=CET:20260613T083000
DESCRIPTION:
DTSTAMP:20260421T132649Z
LOCATION:Nele
SUMMARY:Aufgerichtet und verbunden in den Tag starten: Mini-Meditation und 
 Körperübung - Nele Hirsch
URL:https://go.oercamp.de/werkstatt-wutoeschingen-2026/talk/YQ7HMP/
END:VEVENT
BEGIN:VEVENT
UID:pretalx-werkstatt-wutoeschingen-2026-8XBBXL-0@go.oercamp.de
DTSTART;TZID=CET:20260613T093000
DTEND;TZID=CET:20260613T100000
DESCRIPTION:
DTSTAMP:20260421T132649Z
LOCATION:Nele
SUMMARY:Community-Meetup zu den nächsten Schritten - Nele Hirsch
URL:https://go.oercamp.de/werkstatt-wutoeschingen-2026/talk/8XBBXL/
END:VEVENT
BEGIN:VEVENT
UID:pretalx-werkstatt-wutoeschingen-2026-9XQB3U@go.oercamp.de
DTSTART;TZID=CET:20260613T103000
DTEND;TZID=CET:20260613T104500
DESCRIPTION:
DTSTAMP:20260421T132649Z
LOCATION:Nele
SUMMARY:Das Modell des inneren Teams als Professionalisierungspraxis in der
  pädagogischen Tätigkeit nutzen - Nele Hirsch
URL:https://go.oercamp.de/werkstatt-wutoeschingen-2026/talk/9XQB3U/
END:VEVENT
BEGIN:VEVENT
UID:pretalx-werkstatt-wutoeschingen-2026-TGLMGX-1@go.oercamp.de
DTSTART;TZID=CET:20260613T104500
DTEND;TZID=CET:20260613T110000
DESCRIPTION:
DTSTAMP:20260421T132649Z
LOCATION:Nele
SUMMARY:Sprechstunde zu Lernkulturveränderung - Nele Hirsch
URL:https://go.oercamp.de/werkstatt-wutoeschingen-2026/talk/TGLMGX/
END:VEVENT
BEGIN:VEVENT
UID:pretalx-werkstatt-wutoeschingen-2026-3XMUQU@go.oercamp.de
DTSTART;TZID=CET:20260613T113000
DTEND;TZID=CET:20260613T114500
DESCRIPTION:
DTSTAMP:20260421T132649Z
LOCATION:Nele
SUMMARY:Die Inner Development Goals (IDGs) als hilfreiches Rahmenwerk für 
 zukunftsgestaltende Lernprozesse kennenlernen und nutzen - Nele Hirsch
URL:https://go.oercamp.de/werkstatt-wutoeschingen-2026/talk/3XMUQU/
END:VEVENT
BEGIN:VEVENT
UID:pretalx-werkstatt-wutoeschingen-2026-TGLMGX-2@go.oercamp.de
DTSTART;TZID=CET:20260613T114500
DTEND;TZID=CET:20260613T120000
DESCRIPTION:
DTSTAMP:20260421T132649Z
LOCATION:Nele
SUMMARY:Sprechstunde zu Lernkulturveränderung - Nele Hirsch
URL:https://go.oercamp.de/werkstatt-wutoeschingen-2026/talk/TGLMGX/
END:VEVENT
BEGIN:VEVENT
UID:pretalx-werkstatt-wutoeschingen-2026-SQV8XH@go.oercamp.de
DTSTART;TZID=CET:20260613T123000
DTEND;TZID=CET:20260613T124500
DESCRIPTION:
DTSTAMP:20260421T132649Z
LOCATION:Nele
SUMMARY:KI-Sprachmodelle als Resonanzmaschinen im Kontext einer veränderte
 n Lernkultur einsetzen - Nele Hirsch
URL:https://go.oercamp.de/werkstatt-wutoeschingen-2026/talk/SQV8XH/
END:VEVENT
BEGIN:VEVENT
UID:pretalx-werkstatt-wutoeschingen-2026-TGLMGX-3@go.oercamp.de
DTSTART;TZID=CET:20260613T124500
DTEND;TZID=CET:20260613T130000
DESCRIPTION:
DTSTAMP:20260421T132649Z
LOCATION:Nele
SUMMARY:Sprechstunde zu Lernkulturveränderung - Nele Hirsch
URL:https://go.oercamp.de/werkstatt-wutoeschingen-2026/talk/TGLMGX/
END:VEVENT
BEGIN:VEVENT
UID:pretalx-werkstatt-wutoeschingen-2026-8XBBXL-1@go.oercamp.de
DTSTART;TZID=CET:20260613T140000
DTEND;TZID=CET:20260613T143000
DESCRIPTION:
DTSTAMP:20260421T132649Z
LOCATION:Nele
SUMMARY:Community-Meetup zu den nächsten Schritten - Nele Hirsch
URL:https://go.oercamp.de/werkstatt-wutoeschingen-2026/talk/8XBBXL/
END:VEVENT
BEGIN:VEVENT
UID:pretalx-werkstatt-wutoeschingen-2026-UXSXCD@go.oercamp.de
DTSTART;TZID=CET:20260613T143000
DTEND;TZID=CET:20260613T144500
DESCRIPTION:
DTSTAMP:20260421T132649Z
LOCATION:Nele
SUMMARY:Methodische Ideen für Zuhören\, Dialog und Co-Creation erkunden u
 nd im Rahmen des eigenen Materialvorhabens nutzen - Nele Hirsch
URL:https://go.oercamp.de/werkstatt-wutoeschingen-2026/talk/UXSXCD/
END:VEVENT
BEGIN:VEVENT
UID:pretalx-werkstatt-wutoeschingen-2026-TGLMGX-4@go.oercamp.de
DTSTART;TZID=CET:20260613T144500
DTEND;TZID=CET:20260613T150000
DESCRIPTION:
DTSTAMP:20260421T132649Z
LOCATION:Nele
SUMMARY:Sprechstunde zu Lernkulturveränderung - Nele Hirsch
URL:https://go.oercamp.de/werkstatt-wutoeschingen-2026/talk/TGLMGX/
END:VEVENT
BEGIN:VEVENT
UID:pretalx-werkstatt-wutoeschingen-2026-QRKNVA@go.oercamp.de
DTSTART;TZID=CET:20260613T161500
DTEND;TZID=CET:20260613T163000
DESCRIPTION:
DTSTAMP:20260421T132649Z
LOCATION:Nele
SUMMARY:Lernreflexion als Teil von Lernprozessen verankern - Nele Hirsch
URL:https://go.oercamp.de/werkstatt-wutoeschingen-2026/talk/QRKNVA/
END:VEVENT
BEGIN:VEVENT
UID:pretalx-werkstatt-wutoeschingen-2026-TGLMGX-5@go.oercamp.de
DTSTART;TZID=CET:20260613T163000
DTEND;TZID=CET:20260613T164500
DESCRIPTION:
DTSTAMP:20260421T132649Z
LOCATION:Nele
SUMMARY:Sprechstunde zu Lernkulturveränderung - Nele Hirsch
URL:https://go.oercamp.de/werkstatt-wutoeschingen-2026/talk/TGLMGX/
END:VEVENT
BEGIN:VEVENT
UID:pretalx-werkstatt-wutoeschingen-2026-DFPBXU@go.oercamp.de
DTSTART;TZID=CET:20260613T170000
DTEND;TZID=CET:20260613T171500
DESCRIPTION:
DTSTAMP:20260421T132649Z
LOCATION:Nele
SUMMARY:Social Media für Pädagog*innen jenseits von Twitter & Co. – Ver
 netzung im Fediverse (z.B. Mastodon) - Nele Hirsch
URL:https://go.oercamp.de/werkstatt-wutoeschingen-2026/talk/DFPBXU/
END:VEVENT
BEGIN:VEVENT
UID:pretalx-werkstatt-wutoeschingen-2026-TGLMGX-6@go.oercamp.de
DTSTART;TZID=CET:20260613T171500
DTEND;TZID=CET:20260613T173000
DESCRIPTION:
DTSTAMP:20260421T132649Z
LOCATION:Nele
SUMMARY:Sprechstunde zu Lernkulturveränderung - Nele Hirsch
URL:https://go.oercamp.de/werkstatt-wutoeschingen-2026/talk/TGLMGX/
END:VEVENT
BEGIN:VEVENT
UID:pretalx-werkstatt-wutoeschingen-2026-YQ7HMP-1@go.oercamp.de
DTSTART;TZID=CET:20260614T080000
DTEND;TZID=CET:20260614T083000
DESCRIPTION:
DTSTAMP:20260421T132649Z
LOCATION:Nele
SUMMARY:Aufgerichtet und verbunden in den Tag starten: Mini-Meditation und 
 Körperübung - Nele Hirsch
URL:https://go.oercamp.de/werkstatt-wutoeschingen-2026/talk/YQ7HMP/
END:VEVENT
BEGIN:VEVENT
UID:pretalx-werkstatt-wutoeschingen-2026-XGEFG9@go.oercamp.de
DTSTART;TZID=CET:20260614T094500
DTEND;TZID=CET:20260614T100000
DESCRIPTION:
DTSTAMP:20260421T132649Z
LOCATION:Nele
SUMMARY:Mit dem Open Source Tool Publii eine digital mündige Online-Lernre
 flexion ermöglichen - Nele Hirsch
URL:https://go.oercamp.de/werkstatt-wutoeschingen-2026/talk/XGEFG9/
END:VEVENT
BEGIN:VEVENT
UID:pretalx-werkstatt-wutoeschingen-2026-TGLMGX-7@go.oercamp.de
DTSTART;TZID=CET:20260614T100000
DTEND;TZID=CET:20260614T101500
DESCRIPTION:
DTSTAMP:20260421T132649Z
LOCATION:Nele
SUMMARY:Sprechstunde zu Lernkulturveränderung - Nele Hirsch
URL:https://go.oercamp.de/werkstatt-wutoeschingen-2026/talk/TGLMGX/
END:VEVENT
BEGIN:VEVENT
UID:pretalx-werkstatt-wutoeschingen-2026-QJMWTJ@go.oercamp.de
DTSTART;TZID=CET:20260614T111500
DTEND;TZID=CET:20260614T113000
DESCRIPTION:
DTSTAMP:20260421T132649Z
LOCATION:Nele
SUMMARY:Improvisations-Methoden als Teil von gelingenden Lernprozessen vera
 nkern - Nele Hirsch
URL:https://go.oercamp.de/werkstatt-wutoeschingen-2026/talk/QJMWTJ/
END:VEVENT
BEGIN:VEVENT
UID:pretalx-werkstatt-wutoeschingen-2026-TGLMGX-8@go.oercamp.de
DTSTART;TZID=CET:20260614T113000
DTEND;TZID=CET:20260614T114500
DESCRIPTION:
DTSTAMP:20260421T132649Z
LOCATION:Nele
SUMMARY:Sprechstunde zu Lernkulturveränderung - Nele Hirsch
URL:https://go.oercamp.de/werkstatt-wutoeschingen-2026/talk/TGLMGX/
END:VEVENT
BEGIN:VEVENT
UID:pretalx-werkstatt-wutoeschingen-2026-DNE9WF@go.oercamp.de
DTSTART;TZID=CET:20260614T120000
DTEND;TZID=CET:20260614T123000
DESCRIPTION:
DTSTAMP:20260421T132649Z
LOCATION:Nele
SUMMARY:Community-Meetup mit Peer-Reflexion - Nele Hirsch
URL:https://go.oercamp.de/werkstatt-wutoeschingen-2026/talk/DNE9WF/
END:VEVENT
END:VCALENDAR
