BEGIN:VCALENDAR
VERSION:2.0
PRODID:-//pretalx//go.oercamp.de//werkstatt-wutoeschingen-2026//KCBPZF
BEGIN:VTIMEZONE
TZID:CET
BEGIN:STANDARD
DTSTART:20001029T040000
RRULE:FREQ=YEARLY;BYDAY=-1SU;BYMONTH=10
TZNAME:CET
TZOFFSETFROM:+0200
TZOFFSETTO:+0100
END:STANDARD
BEGIN:DAYLIGHT
DTSTART:20000326T030000
RRULE:FREQ=YEARLY;BYDAY=-1SU;BYMONTH=3
TZNAME:CEST
TZOFFSETFROM:+0100
TZOFFSETTO:+0200
END:DAYLIGHT
END:VTIMEZONE
BEGIN:VEVENT
UID:pretalx-werkstatt-wutoeschingen-2026-G7D8ET@go.oercamp.de
DTSTART;TZID=CET:20260612T160000
DTEND;TZID=CET:20260612T164500
DESCRIPTION:
DTSTAMP:20260421T130424Z
LOCATION:Caroline
SUMMARY:Gute Räume für Lernen und Leben - Einstieg - Caroline Spirig
URL:https://go.oercamp.de/werkstatt-wutoeschingen-2026/talk/G7D8ET/
END:VEVENT
BEGIN:VEVENT
UID:pretalx-werkstatt-wutoeschingen-2026-EMTCRL@go.oercamp.de
DTSTART;TZID=CET:20260612T170000
DTEND;TZID=CET:20260612T174500
DESCRIPTION:
DTSTAMP:20260421T130424Z
LOCATION:Caroline
SUMMARY:Lernräume für selbstorganisiertes Lernen – Besichtigung des rot
 en Lernhauses - Caroline Spirig
URL:https://go.oercamp.de/werkstatt-wutoeschingen-2026/talk/EMTCRL/
END:VEVENT
BEGIN:VEVENT
UID:pretalx-werkstatt-wutoeschingen-2026-7UA7M9@go.oercamp.de
DTSTART;TZID=CET:20260613T103000
DTEND;TZID=CET:20260613T111500
DESCRIPTION:
DTSTAMP:20260421T130424Z
LOCATION:Caroline
SUMMARY:Der Schulraum als prägender Unterstützer - Caroline Spirig
URL:https://go.oercamp.de/werkstatt-wutoeschingen-2026/talk/7UA7M9/
END:VEVENT
BEGIN:VEVENT
UID:pretalx-werkstatt-wutoeschingen-2026-QLVCKU@go.oercamp.de
DTSTART;TZID=CET:20260613T113000
DTEND;TZID=CET:20260613T120000
DESCRIPTION:
DTSTAMP:20260421T130424Z
LOCATION:Caroline
SUMMARY:Community Meetup Mittendrin - Caroline Spirig
URL:https://go.oercamp.de/werkstatt-wutoeschingen-2026/talk/QLVCKU/
END:VEVENT
BEGIN:VEVENT
UID:pretalx-werkstatt-wutoeschingen-2026-YT9GES@go.oercamp.de
DTSTART;TZID=CET:20260613T143000
DTEND;TZID=CET:20260613T151500
DESCRIPTION:
DTSTAMP:20260421T130424Z
LOCATION:Caroline
SUMMARY:Räumliche Zonen für unterschiedliche Lernaktivitäten gestalten -
  Caroline Spirig
URL:https://go.oercamp.de/werkstatt-wutoeschingen-2026/talk/YT9GES/
END:VEVENT
BEGIN:VEVENT
UID:pretalx-werkstatt-wutoeschingen-2026-JY8APA@go.oercamp.de
DTSTART;TZID=CET:20260613T163000
DTEND;TZID=CET:20260613T164500
DESCRIPTION:
DTSTAMP:20260421T130424Z
LOCATION:Caroline
SUMMARY:Community Meetup Next Steps - Caroline Spirig
URL:https://go.oercamp.de/werkstatt-wutoeschingen-2026/talk/JY8APA/
END:VEVENT
END:VCALENDAR
