BEGIN:VCALENDAR
VERSION:2.0
PRODID:-//pretalx//go.oercamp.de//3XMUQU
BEGIN:VTIMEZONE
TZID:CET
BEGIN:STANDARD
DTSTART:20001029T040000
RRULE:FREQ=YEARLY;BYDAY=-1SU;BYMONTH=10
TZNAME:CET
TZOFFSETFROM:+0200
TZOFFSETTO:+0100
END:STANDARD
BEGIN:DAYLIGHT
DTSTART:20000326T030000
RRULE:FREQ=YEARLY;BYDAY=-1SU;BYMONTH=3
TZNAME:CEST
TZOFFSETFROM:+0100
TZOFFSETTO:+0200
END:DAYLIGHT
END:VTIMEZONE
BEGIN:VEVENT
UID:pretalx-werkstatt-wutoeschingen-2026-3XMUQU@go.oercamp.de
DTSTART;TZID=CET:20260613T113000
DTEND;TZID=CET:20260613T114500
DESCRIPTION:
DTSTAMP:20260421T133213Z
LOCATION:Nele
SUMMARY:Die Inner Development Goals (IDGs) als hilfreiches Rahmenwerk für 
 zukunftsgestaltende Lernprozesse kennenlernen und nutzen - Nele Hirsch
URL:https://go.oercamp.de/werkstatt-wutoeschingen-2026/talk/3XMUQU/
END:VEVENT
END:VCALENDAR
