BEGIN:VCALENDAR
VERSION:2.0
PRODID:-//pretalx//go.oercamp.de//9XQB3U
BEGIN:VTIMEZONE
TZID:CET
BEGIN:STANDARD
DTSTART:20001029T040000
RRULE:FREQ=YEARLY;BYDAY=-1SU;BYMONTH=10
TZNAME:CET
TZOFFSETFROM:+0200
TZOFFSETTO:+0100
END:STANDARD
BEGIN:DAYLIGHT
DTSTART:20000326T030000
RRULE:FREQ=YEARLY;BYDAY=-1SU;BYMONTH=3
TZNAME:CEST
TZOFFSETFROM:+0100
TZOFFSETTO:+0200
END:DAYLIGHT
END:VTIMEZONE
BEGIN:VEVENT
UID:pretalx-werkstatt-wutoeschingen-2026-9XQB3U@go.oercamp.de
DTSTART;TZID=CET:20260613T103000
DTEND;TZID=CET:20260613T104500
DESCRIPTION:
DTSTAMP:20260421T133553Z
LOCATION:Nele
SUMMARY:Das Modell des inneren Teams als Professionalisierungspraxis in der
  pädagogischen Tätigkeit nutzen - Nele Hirsch
URL:https://go.oercamp.de/werkstatt-wutoeschingen-2026/talk/9XQB3U/
END:VEVENT
END:VCALENDAR
