BEGIN:VCALENDAR
VERSION:2.0
PRODID:-//pretalx//go.oercamp.de//DFPBXU
BEGIN:VTIMEZONE
TZID:CET
BEGIN:STANDARD
DTSTART:20001029T040000
RRULE:FREQ=YEARLY;BYDAY=-1SU;BYMONTH=10
TZNAME:CET
TZOFFSETFROM:+0200
TZOFFSETTO:+0100
END:STANDARD
BEGIN:DAYLIGHT
DTSTART:20000326T030000
RRULE:FREQ=YEARLY;BYDAY=-1SU;BYMONTH=3
TZNAME:CEST
TZOFFSETFROM:+0100
TZOFFSETTO:+0200
END:DAYLIGHT
END:VTIMEZONE
BEGIN:VEVENT
UID:pretalx-werkstatt-wutoeschingen-2026-DFPBXU@go.oercamp.de
DTSTART;TZID=CET:20260613T170000
DTEND;TZID=CET:20260613T171500
DESCRIPTION:
DTSTAMP:20260421T133241Z
LOCATION:Nele
SUMMARY:Social Media für Pädagog*innen jenseits von Twitter & Co. – Ver
 netzung im Fediverse (z.B. Mastodon) - Nele Hirsch
URL:https://go.oercamp.de/werkstatt-wutoeschingen-2026/talk/DFPBXU/
END:VEVENT
END:VCALENDAR
