BEGIN:VCALENDAR
VERSION:2.0
PRODID:-//pretalx//go.oercamp.de//SQV8XH
BEGIN:VTIMEZONE
TZID:CET
BEGIN:STANDARD
DTSTART:20001029T040000
RRULE:FREQ=YEARLY;BYDAY=-1SU;BYMONTH=10
TZNAME:CET
TZOFFSETFROM:+0200
TZOFFSETTO:+0100
END:STANDARD
BEGIN:DAYLIGHT
DTSTART:20000326T030000
RRULE:FREQ=YEARLY;BYDAY=-1SU;BYMONTH=3
TZNAME:CEST
TZOFFSETFROM:+0100
TZOFFSETTO:+0200
END:DAYLIGHT
END:VTIMEZONE
BEGIN:VEVENT
UID:pretalx-werkstatt-wutoeschingen-2026-SQV8XH@go.oercamp.de
DTSTART;TZID=CET:20260613T123000
DTEND;TZID=CET:20260613T124500
DESCRIPTION:
DTSTAMP:20260421T131350Z
LOCATION:Nele
SUMMARY:KI-Sprachmodelle als Resonanzmaschinen im Kontext einer veränderte
 n Lernkultur einsetzen - Nele Hirsch
URL:https://go.oercamp.de/werkstatt-wutoeschingen-2026/talk/SQV8XH/
END:VEVENT
END:VCALENDAR
